BEGIN:VCALENDAR
VERSION:2.0
PRODID:-//ChamberMaster//Event Calendar 2.0//EN
METHOD:PUBLISH
X-PUBLISHED-TTL:P3D
REFRESH-INTERVAL:P3D
CALSCALE:GREGORIAN
BEGIN:VEVENT
DTSTART:20260110T003000Z
DTEND:20260110T030000Z
X-MICROSOFT-CDO-ALLDAYEVENT:FALSE
SUMMARY:BINGO! BINGO!
DESCRIPTION:MARK FRIDAY - Jan 9th - for a night of fun!\n\n\n\nNot only is it National Law Enforcement Appreciation Day\, but a night of Old Fashioned BINGO! to support your nonprofits.\n\n\n\nThe Brew Drinkery is graciously hosting their BINGO Fundraiser in January to support Granbury PD's Citizens Police Academy & Alumni.\n\n\n\nSo come play a game or two\, or all ten games. 6:30-9pm.\n\n\n\nEvery donation and all funds raised directly support your Granbury Officers and K9s.\n\n\n\nMore information about your Citizen Police Academy Program\, our K9 MINI & K9 Tee Merch fundraising items\, COPS program can be found at https://cpaalumni.org. \n\n\n\nCitizen Police Academy 2026 Program is accepting applications for the 10 week CPA Course that begins March 26. Thursday evenings in GPD's Community Room.
X-ALT-DESC;FMTTYPE=text/html:MARK FRIDAY - Jan 9th - for a night of fun!<br />\n<br />\nNot only is it National Law Enforcement Appreciation Day\, but a night of Old Fashioned BINGO! to support your nonprofits.<br />\n<br />\nThe Brew Drinkery is graciously hosting their BINGO Fundraiser in January to support Granbury PD&#39\;s Citizens Police Academy &amp\; Alumni.<br />\n<br />\nSo come play a game or two\, or all ten games. 6:30-9pm.<br />\n<br />\nEvery donation and all funds raised directly support your Granbury Officers and K9s.<br />\n<br />\nMore information about your Citizen Police Academy Program\, our K9 MINI &amp\; K9 Tee Merch fundraising items\, COPS program can be found at https://cpaalumni.org.&nbsp\;<br />\n<br />\nCitizen Police Academy 2026 Program is accepting applications for the 10 week CPA Course that begins March 26. Thursday evenings in GPD&#39\;s Community Room.
LOCATION:206 E Pearl Street\, Granbury TX 76048
UID:e.2304.57702
SEQUENCE:3
DTSTAMP:20260419T132059Z
URL:https://business.granburychamber.com/events/details/bingo-bingo-57702
END:VEVENT

END:VCALENDAR
