BEGIN:VCALENDAR
VERSION:2.0
PRODID:-//ChamberMaster//Event Calendar 2.0//EN
METHOD:PUBLISH
X-PUBLISHED-TTL:P3D
REFRESH-INTERVAL:P3D
CALSCALE:GREGORIAN
BEGIN:VEVENT
DTSTART:20221018T230000Z
DTEND:20221019T010000Z
X-MICROSOFT-CDO-ALLDAYEVENT:FALSE
SUMMARY:CANDIDATE FORUM-COUNTY
DESCRIPTION:Individuals running or County offices will address the people attending the forum o help them be more informed of the issues facing Hood County and how each candidate will work to address them.\n\n \nHood County County Clerk & County Commissioner\, Precinct 4\n\n \n\nTuesday\, October 18th 6-8pm\n\n \n\nInvited Candidates Include\n\n(in ballot order):\n\n \n\nCounty Clerk\n\nHarold Granek\n\nKatie Lang\, Incumbent\n\n \n\nCounty Commissioner\, Precinct 4\n\nDave Eagle\, Incumbent\n\nGrant Wood\n\nClick Here submit questions for the candidates.
X-ALT-DESC;FMTTYPE=text/html:Individuals running or County offices will address the people attending the forum o help them be more informed of the issues facing Hood County and how each candidate will work to address them.<br />\n&nbsp\;\n<h3 style="margin: 0px\; font-family: Arial\, Verdana\, Helvetica\, sans-serif\; color: rgb(113\, 122\, 128)\; font-size: 18px\; background-color: rgb(255\, 255\, 255)\; text-align: center\;"><span style="color: rgb(18\, 76\, 139)\;">Hood County County Clerk &amp\; County Commissioner\, Precinct 4</span></h3>\n\n<p style="margin: 0px\; padding: 0px\; color: rgb(24\, 23\, 23)\; font-family: &quot\;Arial Narrow&quot\;\, &quot\;Arial MT Condensed Light&quot\;\, Arial\, sans-serif\; font-size: 16px\; background-color: rgb(255\, 255\, 255)\; text-align: center\;">&nbsp\;</p>\n\n<p style="margin: 0px\; padding: 0px\; color: rgb(24\, 23\, 23)\; font-family: &quot\;Arial Narrow&quot\;\, &quot\;Arial MT Condensed Light&quot\;\, Arial\, sans-serif\; font-size: 16px\; background-color: rgb(255\, 255\, 255)\; text-align: center\;"><span style="color: rgb(255\, 0\, 0)\; font-size: 20px\; font-weight: bold\;">Tuesday\, October 18th 6-8pm</span></p>\n\n<p style="margin: 0px\; padding: 0px\; color: rgb(24\, 23\, 23)\; font-family: &quot\;Arial Narrow&quot\;\, &quot\;Arial MT Condensed Light&quot\;\, Arial\, sans-serif\; font-size: 16px\; background-color: rgb(255\, 255\, 255)\;">&nbsp\;</p>\n\n<p style="margin: 0px\; padding: 0px\; color: rgb(24\, 23\, 23)\; font-family: &quot\;Arial Narrow&quot\;\, &quot\;Arial MT Condensed Light&quot\;\, Arial\, sans-serif\; font-size: 16px\; background-color: rgb(255\, 255\, 255)\; text-align: center\;"><span style="color: rgb(0\, 0\, 0)\; font-size: 18px\; font-weight: bold\;">Invited Candidates Include</span></p>\n\n<p style="margin: 0px\; padding: 0px\; color: rgb(24\, 23\, 23)\; font-family: &quot\;Arial Narrow&quot\;\, &quot\;Arial MT Condensed Light&quot\;\, Arial\, sans-serif\; font-size: 16px\; background-color: rgb(255\, 255\, 255)\; text-align: center\;"><span style="font-size: 18px\; color: rgb(0\, 0\, 0)\; font-weight: bold\;">(in ballot order):</span></p>\n\n<p style="margin: 0px\; padding: 0px\; color: rgb(24\, 23\, 23)\; font-family: &quot\;Arial Narrow&quot\;\, &quot\;Arial MT Condensed Light&quot\;\, Arial\, sans-serif\; font-size: 16px\; background-color: rgb(255\, 255\, 255)\; text-align: center\;">&nbsp\;</p>\n\n<p style="margin: 0px\; padding: 0px\; color: rgb(24\, 23\, 23)\; font-family: &quot\;Arial Narrow&quot\;\, &quot\;Arial MT Condensed Light&quot\;\, Arial\, sans-serif\; font-size: 16px\; background-color: rgb(255\, 255\, 255)\; text-align: center\;"><span style="font-size: 18px\; color: rgb(0\, 0\, 0)\; font-weight: bold\;">County Clerk</span></p>\n\n<p style="margin: 0px\; padding: 0px\; color: rgb(24\, 23\, 23)\; font-family: &quot\;Arial Narrow&quot\;\, &quot\;Arial MT Condensed Light&quot\;\, Arial\, sans-serif\; font-size: 16px\; background-color: rgb(255\, 255\, 255)\; text-align: center\;"><span style="font-size: 18px\; color: rgb(0\, 0\, 0)\;">Harold Granek</span></p>\n\n<p style="margin: 0px\; padding: 0px\; color: rgb(24\, 23\, 23)\; font-family: &quot\;Arial Narrow&quot\;\, &quot\;Arial MT Condensed Light&quot\;\, Arial\, sans-serif\; font-size: 16px\; background-color: rgb(255\, 255\, 255)\; text-align: center\;"><span style="font-size: 18px\;">Katie Lang\, Incumbent</span></p>\n\n<p style="margin: 0px\; padding: 0px\; color: rgb(24\, 23\, 23)\; font-family: &quot\;Arial Narrow&quot\;\, &quot\;Arial MT Condensed Light&quot\;\, Arial\, sans-serif\; font-size: 16px\; background-color: rgb(255\, 255\, 255)\; text-align: center\;">&nbsp\;</p>\n\n<p style="margin: 0px\; padding: 0px\; color: rgb(24\, 23\, 23)\; font-family: &quot\;Arial Narrow&quot\;\, &quot\;Arial MT Condensed Light&quot\;\, Arial\, sans-serif\; font-size: 16px\; background-color: rgb(255\, 255\, 255)\; text-align: center\;"><span style="font-size: 18px\; color: rgb(0\, 0\, 0)\; font-weight: bold\;">County Commissioner\, Precinct 4</span></p>\n\n<p style="margin: 0px\; padding: 0px\; color: rgb(24\, 23\, 23)\; font-family: &quot\;Arial Narrow&quot\;\, &quot\;Arial MT Condensed Light&quot\;\, Arial\, sans-serif\; font-size: 16px\; background-color: rgb(255\, 255\, 255)\; text-align: center\;"><span style="font-size: 18px\; color: rgb(0\, 0\, 0)\;">Dave Eagle\, Incumbent</span></p>\n\n<p style="margin: 0px\; padding: 0px\; color: rgb(24\, 23\, 23)\; font-family: &quot\;Arial Narrow&quot\;\, &quot\;Arial MT Condensed Light&quot\;\, Arial\, sans-serif\; font-size: 16px\; background-color: rgb(255\, 255\, 255)\; text-align: center\;"><span style="font-size: 18px\; color: rgb(0\, 0\, 0)\;">Grant Wood</span><br />\n<a data-link-type="web" href="http://erictestdevi.chambermaster.com/form/view/27659" style="color: rgb(0\, 36\, 237)\; font-weight: bold\; font-family: &quot\;Arial Narrow&quot\;\, &quot\;Arial MT Condensed Light&quot\;\, Arial\, sans-serif\; text-align: center\; background-color: rgb(255\, 255\, 255)\; font-size: 18px\;" target="_blank">Click Here</a><span style="color: rgb(24\, 23\, 23)\; font-family: &quot\;Arial Narrow&quot\;\, &quot\;Arial MT Condensed Light&quot\;\, Arial\, sans-serif\; text-align: center\; background-color: rgb(255\, 255\, 255)\; font-size: 18px\; font-weight: bold\;">&nbsp\;submit questions for the candidates.</span></p>\n
LOCATION:Lake Granbury Conference Center
UID:e.2304.53712
SEQUENCE:3
DTSTAMP:20260425T150513Z
URL:https://business.granburychamber.com/events/details/candidate-forum-county-53712
END:VEVENT

END:VCALENDAR
