BEGIN:VCALENDAR
VERSION:2.0
PRODID:-//ChamberMaster//Event Calendar 2.0//EN
METHOD:PUBLISH
X-PUBLISHED-TTL:P3D
REFRESH-INTERVAL:P3D
CALSCALE:GREGORIAN
BEGIN:VEVENT
DTSTART:20220116T010000Z
DTEND:20220116T030000Z
X-MICROSOFT-CDO-ALLDAYEVENT:FALSE
SUMMARY:GHS Choir & Theatre Presents "Spamalot"
DESCRIPTION:GHS Fine Arts Musical - "Monty Python's Spamalot"\n\nStarts at 7:00 PM\n\nLocation:\n\nGranbury High School - Bagby-McMahan Performing Arts Center\n\n2000 W. Pearl Street\n\nGranbury\, Texas 76048
X-ALT-DESC;FMTTYPE=text/html:<h3 background-color:="" border-box="" box-sizing:="" class="wcm-eventdetail-eventtitle" color:="" margin-left:="" pt="" style="font-size: 18px\; font-family: OpenSans-Regular\, OpenSans\, "><br />\n<span style="font-family:verdana\;"><strong><span style="font-size:14px\;">GHS Fine Arts Musical - &quot\;Monty Python&#39\;s Spamalot&quot\;</span></strong></span><br />\n<span style="font-size:14px\;">Starts&nbsp\;at 7:00 PM</span><br />\n<span style="font-size:14px\;">Location:<br />\nGranbury High School - Bagby-McMahan Performing Arts Center<br />\n2000 W. Pearl Street<br />\nGranbury\, Texas 76048</span></h3>\n
LOCATION:
UID:e.2304.53009
SEQUENCE:3
DTSTAMP:20260424T150115Z
URL:https://business.granburychamber.com/events/details/ghs-choir-theatre-presents-spamalot-01-15-2022-53009
END:VEVENT

END:VCALENDAR
