BEGIN:VCALENDAR
VERSION:2.0
PRODID:-//ChamberMaster//Event Calendar 2.0//EN
METHOD:PUBLISH
X-PUBLISHED-TTL:P3D
REFRESH-INTERVAL:P3D
CALSCALE:GREGORIAN
BEGIN:VEVENT
DTSTART:20241123T150000Z
DTEND:20241123T180000Z
X-MICROSOFT-CDO-ALLDAYEVENT:FALSE
SUMMARY:Granbury Children's Business Fair - Hosted by Sage Academy
DESCRIPTION:Join us for the 2nd Annual Granbury Children's Business Fair\, hosted by Sage Academy Granbury\, on November 23\, 2024. Young entrepreneurs aged 6-14 will showcase their business ideas in a one-day marketplace\, with only 20 booths available. For a $10 application fee\, participants will receive support through inspiring emails leading up to the event. This is a fantastic opportunity to support the next generation of business leaders and make a positive impact on our community.\n\n \nDetails on our fair:\n\n\n	Host up to 20 booths  \n	A $10 participation fee at time of entry\n	Fair location at 2400 Fall Creek Hwy \n	On Saturday\, November 23rd\n	From 9 am   12 pm. \n	Leaners ages 6-14 may apply\n	Tents\, 6ft tables and 2 chairs will be provided\n	No table cloths provided\n	No electricity provided
X-ALT-DESC;FMTTYPE=text/html:Join us for the 2nd Annual Granbury Children&#39\;s Business Fair\, hosted by Sage Academy Granbury\, on November 23\, 2024. Young entrepreneurs aged 6-14 will showcase their business ideas in a one-day marketplace\, with only 20 booths available. For a $10 application fee\, participants will receive support through inspiring emails leading up to the event. This is a fantastic opportunity to support the next generation of business leaders and make a positive impact on our community.<br />\n&nbsp\;\n<div><span style="font-size:14px">Details on our fair:</span></div>\n\n<ul>\n	<li><span style="font-size:14px">Host up to 20 booths &nbsp\;</span></li>\n	<li><span style="font-size:14px">A $10 participation fee at time of entry</span></li>\n	<li><span style="font-size:14px">Fair location at 2400 Fall Creek Hwy&nbsp\;</span></li>\n	<li><span style="font-size:14px">On Saturday\, November 23rd</span></li>\n	<li><span style="font-size:14px">From 9 am &ndash\; 12 pm.&nbsp\;</span></li>\n	<li><span style="font-size:14px">Leaners ages 6-14 may apply</span></li>\n	<li><span style="font-size:14px">Tents\, 6ft tables and 2 chairs will be provided</span></li>\n	<li><span style="font-size:14px">No table cloths provided</span></li>\n	<li><span style="font-size:14px">No electricity provided</span></li>\n</ul>\n
LOCATION:Sage Academy Granbury 2400 Fall Creek Hwy Granbury\, TX 76049
UID:e.2304.56079
SEQUENCE:3
DTSTAMP:20260425T150648Z
URL:https://business.granburychamber.com/events/details/granbury-children-s-business-fair-11-23-2024-56079
END:VEVENT

END:VCALENDAR
