BEGIN:VCALENDAR
VERSION:2.0
PRODID:-//ChamberMaster//Event Calendar 2.0//EN
METHOD:PUBLISH
X-PUBLISHED-TTL:P3D
REFRESH-INTERVAL:P3D
CALSCALE:GREGORIAN
BEGIN:VEVENT
DTSTART:20260423T230000Z
DTEND:20260424T020000Z
X-MICROSOFT-CDO-ALLDAYEVENT:FALSE
SUMMARY:Granbury PD's Citizens Police Academy 2026
DESCRIPTION:Citizens Police Academy program (CPA) in the Granbury Police Department's Community Room.\n\n\n\nThis is your unique opportunity to step behind the badge and learn first hand how Officers train\, their experiences\, what they encounter\, participate in scenarios\, and ways to build stronger relationships for a safer and stronger community.\n\n\n\nTen Thursday evenings\, taught by Officers\, from March 26 - May 28\, 6-9pm. Light dinner provided.\n\n\n\nAfter completing the CPA Course\, you will have the opportunity to apply for Citizens On Patrol (COP) which is extensive training for citizens who wish to assist Officers. \n\n\n\nAll donations to the CPAA are greatly appreciated and can be made in person or online.\n\n\n\nFeel free to stop by GPD and grab a little piece of Granbury history with a K9 Paul or K9 Dany MINI. We also have a K9 T-shirt. 100% of all funds donated/raised directly support your local GPD Officers & K9s with essential resources.  (https://cpaalumni.org) \n\n\n\nStop by and chat with us when you see us at events. And if you can't make it this year - check out our video below and mark your calendar to join us for CPA Class 2027!\n\n\n\nhttps://www.youtube.com/watch?v=A6xt7GLcbQA
X-ALT-DESC;FMTTYPE=text/html:Citizens Police Academy program (CPA) in the Granbury Police Department&#39\;s Community Room.<br />\n<br />\nThis is your unique opportunity to step behind the badge and learn first hand how Officers train\, their experiences\, what they encounter\, participate in scenarios\, and ways to build stronger relationships for a safer and stronger community.<br />\n<br />\nTen Thursday evenings\, taught by Officers\, from March 26 - May 28\, 6-9pm. Light dinner provided.<br />\n<br />\nAfter completing the CPA Course\, you will have the opportunity to apply for Citizens On Patrol (COP) which is extensive training for citizens who wish to assist Officers.&nbsp\;<br />\n<br />\nAll donations to the CPAA are greatly appreciated and can be made in person or online.<br />\n<br />\nFeel free to stop by GPD and grab a little piece of Granbury history with a&nbsp\;K9 Paul or K9 Dany MINI. We also have a K9 T-shirt. 100% of all funds donated/raised directly support your local GPD Officers &amp\; K9s with essential resources. &nbsp\;(https://cpaalumni.org)&nbsp\;<br />\n<br />\nStop by and chat with us when you see us at events. And if you can&#39\;t make it this year - check out our video below and mark your calendar to join us for CPA Class 2027!<br />\n<br />\n<a href="https://www.youtube.com/watch?v=A6xt7GLcbQA">https://www.youtube.com/watch?v=A6xt7GLcbQA</a><br />\n<br />\n<br />\n&nbsp\;
LOCATION:Granbury Police Department Community Room 2050 NE LOOP 567 Granbury TX 76048
UID:e.2304.58383
SEQUENCE:3
DTSTAMP:20260423T130933Z
URL:https://business.granburychamber.com/events/details/granbury-pd-s-citizens-police-academy-2026-04-23-2026-58383
END:VEVENT

END:VCALENDAR
