BEGIN:VCALENDAR
VERSION:2.0
PRODID:-//ChamberMaster//Event Calendar 2.0//EN
METHOD:PUBLISH
X-PUBLISHED-TTL:P3D
REFRESH-INTERVAL:P3D
CALSCALE:GREGORIAN
BEGIN:VEVENT
DTSTART:20260407T210000Z
DTEND:20260407T230000Z
X-MICROSOFT-CDO-ALLDAYEVENT:FALSE
SUMMARY:Opera Guild of Granbury
DESCRIPTION:Opera Guild of Granbury monthly meeting/luncheon\, First Tuesday of the month September through May\, Harbor Lakes Golf Club - 2100 Clubhouse Drive. Come join us:\n\n    Social/Check-in - 4:00pm & 4:30\, Entertainment\n\n    Short business meeting 5:00pm\,  Optional Dinner ($22) 5:30pm\n\n    Reservations required no later than the Friday before the meeting\, contact granburyog@gmail.com or 817-776-2898\n\n    The Guild is an all-volunteer organization whose mission is to support the Granbury Opera House and its Allied Arts.
X-ALT-DESC;FMTTYPE=text/html:<h3><span style="background-color:rgb(255\, 255\, 255)\; color:rgb(51\, 51\, 51)\; font-family:sans-serif\,arial\,verdana\,trebuchet ms\; font-size:13px"><em><strong>Opera Guild of Granbury </strong></em>monthly meeting/luncheon\, First Tuesday of the month September through May\, Harbor Lakes Golf Club - 2100 Clubhouse Drive. Come join us:</span><br />\n<span style="background-color:rgb(255\, 255\, 255)\; color:rgb(51\, 51\, 51)\; font-family:sans-serif\,arial\,verdana\,trebuchet ms\; font-size:13px">&nbsp\; &nbsp\; Social/Check-in - 4:00pm &amp\; 4:30\, Entertainment</span><br />\n<span style="background-color:rgb(255\, 255\, 255)\; color:rgb(51\, 51\, 51)\; font-family:sans-serif\,arial\,verdana\,trebuchet ms\; font-size:13px">&nbsp\; &nbsp\; Short business meeting 5:00pm\,&nbsp\;</span><span style="background-color:rgb(255\, 255\, 255)\; color:rgb(51\, 51\, 51)\; font-family:sans-serif\,arial\,verdana\,trebuchet ms\; font-size:13px">&nbsp\;Optional Dinner ($22) 5:30pm</span><br />\n<span style="background-color:rgb(255\, 255\, 255)\; color:rgb(51\, 51\, 51)\; font-family:sans-serif\,arial\,verdana\,trebuchet ms\; font-size:13px">&nbsp\; &nbsp\; Reservations required no later than the Friday before the meeting\, contact granburyog@gmail.com or 817-776-2898</span><br />\n<span style="background-color:rgb(255\, 255\, 255)\; color:rgb(51\, 51\, 51)\; font-family:sans-serif\,arial\,verdana\,trebuchet ms\; font-size:13px">&nbsp\; &nbsp\; The Guild is an all-volunteer organization whose mission is to support the Granbury Opera House and its Allied Arts.</span></h3>\n
LOCATION:Harbor Lakes Golf Club 2100 Clubhouse Drive Granbury\, TX 76049
UID:e.2304.56993
SEQUENCE:3
DTSTAMP:20260423T125815Z
URL:https://business.granburychamber.com/events/details/opera-guild-of-granbury-04-07-2026-56993
END:VEVENT

END:VCALENDAR
