BEGIN:VCALENDAR
VERSION:2.0
PRODID:-//ChamberMaster//Event Calendar 2.0//EN
METHOD:PUBLISH
X-PUBLISHED-TTL:P3D
REFRESH-INTERVAL:P3D
CALSCALE:GREGORIAN
BEGIN:VEVENT
DTSTART:20240311T220000Z
DTEND:20240311T230000Z
X-MICROSOFT-CDO-ALLDAYEVENT:FALSE
SUMMARY:Parent Info Meetings - Sage Academy
DESCRIPTION:Break away from traditional education norms and embrace a new chapter for your child. Join our Parent Info Meeting to discover how we provide personalized\, 21st-century education. RSVP now and give your child the opportunity to flourish in a different learning environment.\n\n\n\nRegistration closes Mar 10\, 2024\, 12:00 PM
X-ALT-DESC;FMTTYPE=text/html:<span style="color:rgb(39\, 68\, 93)\; font-family:helvetica-w01-light\,helvetica-w02-light\,sans-serif\; font-size:16px">Break away from traditional education norms and embrace a new chapter for your child. Join our Parent Info Meeting to discover how we provide personalized\, 21st-century education. RSVP now and give your child the opportunity to flourish in a different learning environment.<br />\n<br />\nRegistration closes Mar 10\, 2024\, 12:00 PM</span>
LOCATION:2400 Fall Creek Hwy Granbury TX
UID:e.2304.55852
SEQUENCE:3
DTSTAMP:20260419T131416Z
URL:https://business.granburychamber.com/events/details/parent-info-meetings-sage-academy-03-11-2024-55852
END:VEVENT

END:VCALENDAR
