BEGIN:VCALENDAR
VERSION:2.0
PRODID:-//ChamberMaster//Event Calendar 2.0//EN
METHOD:PUBLISH
X-PUBLISHED-TTL:P3D
REFRESH-INTERVAL:P3D
CALSCALE:GREGORIAN
BEGIN:VEVENT
DTSTART:20260121T210000Z
DTEND:20260121T220000Z
X-MICROSOFT-CDO-ALLDAYEVENT:FALSE
SUMMARY:Ribbon Cuttin Granbury KIA
DESCRIPTION:Ribbon Cutting for the New Building at Granbury KIA
X-ALT-DESC;FMTTYPE=text/html:Ribbon Cutting for the New Building at Granbury KIA
LOCATION:4301 E Hwy 377 Granbury\, TX 76049
UID:e.2304.57705
SEQUENCE:3
DTSTAMP:20260421T082114Z
URL:https://business.granburychamber.com/events/details/ribbon-cuttin-granbury-kia-57705
END:VEVENT

END:VCALENDAR
