BEGIN:VCALENDAR
VERSION:2.0
PRODID:-//ChamberMaster//Event Calendar 2.0//EN
METHOD:PUBLISH
X-PUBLISHED-TTL:P3D
REFRESH-INTERVAL:P3D
CALSCALE:GREGORIAN
BEGIN:VEVENT
DTSTART:20251111T223000Z
DTEND:20251111T230000Z
X-MICROSOFT-CDO-ALLDAYEVENT:FALSE
SUMMARY:Ribbon Cutting Boho Buckle
DESCRIPTION:Ribbon Cutting for the Grand Opening of the Boho Buckle!
X-ALT-DESC;FMTTYPE=text/html:Ribbon Cutting for the Grand Opening of the Boho Buckle!&nbsp\;
LOCATION:118 N Houston St Granbury TX 76048
UID:e.2304.57565
SEQUENCE:3
DTSTAMP:20260419T164138Z
URL:https://business.granburychamber.com/events/details/ribbon-cutting-boho-buckle-57565
END:VEVENT

END:VCALENDAR
