BEGIN:VCALENDAR
VERSION:2.0
PRODID:-//ChamberMaster//Event Calendar 2.0//EN
METHOD:PUBLISH
X-PUBLISHED-TTL:P3D
REFRESH-INTERVAL:P3D
CALSCALE:GREGORIAN
BEGIN:VEVENT
DTSTART:20251125T220000Z
DTEND:20251125T223000Z
X-MICROSOFT-CDO-ALLDAYEVENT:FALSE
SUMMARY:Ribbon Cutting Crusader Firearm
DESCRIPTION:Crusader Firearms Grand Opening Ribbon Cutting!!
X-ALT-DESC;FMTTYPE=text/html:Crusader Firearms Grand Opening Ribbon Cutting!!
LOCATION:2321 Paluxy Hwy Granbury\, TX 76048
UID:e.2304.57674
SEQUENCE:3
DTSTAMP:20260419T164150Z
URL:https://business.granburychamber.com/events/details/ribbon-cutting-crusader-firearm-57674
END:VEVENT

END:VCALENDAR
