BEGIN:VCALENDAR
VERSION:2.0
PRODID:-//ChamberMaster//Event Calendar 2.0//EN
METHOD:PUBLISH
X-PUBLISHED-TTL:P3D
REFRESH-INTERVAL:P3D
CALSCALE:GREGORIAN
BEGIN:VEVENT
DTSTART:20251121T180000Z
DTEND:20251121T200000Z
X-MICROSOFT-CDO-ALLDAYEVENT:FALSE
SUMMARY:Ribbon Cutting Granbury Chamber
DESCRIPTION:The Granbury Chamber of Commerce has a new home\,\n\nCome celebrate with us!!\n\nOpen house with light snacks\, drinks and music!!
X-ALT-DESC;FMTTYPE=text/html:The Granbury Chamber of Commerce has a new home\,<br />\nCome celebrate with us!!<br />\nOpen house with light snacks\, drinks and music!!
LOCATION:301 South Morgan Street Granbury TX 76048
UID:e.2304.57672
SEQUENCE:3
DTSTAMP:20260419T153421Z
URL:https://business.granburychamber.com/events/details/ribbon-cutting-granbury-chamber-57672
END:VEVENT

END:VCALENDAR
