BEGIN:VCALENDAR
VERSION:2.0
PRODID:-//ChamberMaster//Event Calendar 2.0//EN
METHOD:PUBLISH
X-PUBLISHED-TTL:P3D
REFRESH-INTERVAL:P3D
CALSCALE:GREGORIAN
BEGIN:VEVENT
DTSTART:20251119T230000Z
DTEND:20251119T233000Z
X-MICROSOFT-CDO-ALLDAYEVENT:FALSE
SUMMARY:Ribbon Cutting Igo's Pour Decisions
DESCRIPTION:Come out to Wind Down Wednesday and have a blast celebrating the Ribbon Cutting for Igo's Pour Decisions
X-ALT-DESC;FMTTYPE=text/html:Come out to Wind Down Wednesday and have a blast celebrating the Ribbon Cutting for Igo&#39\;s Pour Decisions
LOCATION:130 North Crockett St Granbury TX 76048
UID:e.2304.57671
SEQUENCE:3
DTSTAMP:20260419T153154Z
URL:https://business.granburychamber.com/events/details/ribbon-cutting-igo-s-pour-decisions-57671
END:VEVENT

END:VCALENDAR
