BEGIN:VCALENDAR
VERSION:2.0
PRODID:-//ChamberMaster//Event Calendar 2.0//EN
METHOD:PUBLISH
X-PUBLISHED-TTL:P3D
REFRESH-INTERVAL:P3D
CALSCALE:GREGORIAN
BEGIN:VEVENT
DTSTART:20251119T170000Z
DTEND:20251119T180000Z
X-MICROSOFT-CDO-ALLDAYEVENT:FALSE
SUMMARY:Ribbon Cutting Lake House Tanning
DESCRIPTION:Grand Opening Ribbon Cutting Under New Ownership\n\nLake House Tanning
X-ALT-DESC;FMTTYPE=text/html:Grand Opening Ribbon Cutting Under New Ownership<br />\nLake House Tanning
LOCATION:3258 Fall Creek Hwy Acton\, TX 76049
UID:e.2304.57604
SEQUENCE:3
DTSTAMP:20260419T164333Z
URL:https://business.granburychamber.com/events/details/ribbon-cutting-lake-house-tanning-57604
END:VEVENT

END:VCALENDAR
