BEGIN:VCALENDAR
VERSION:2.0
PRODID:-//ChamberMaster//Event Calendar 2.0//EN
METHOD:PUBLISH
X-PUBLISHED-TTL:P3D
REFRESH-INTERVAL:P3D
CALSCALE:GREGORIAN
BEGIN:VEVENT
DTSTART:20251122T210000Z
DTEND:20251123T000000Z
X-MICROSOFT-CDO-ALLDAYEVENT:FALSE
SUMMARY:Run Run Rudolph 5K & 1K
DESCRIPTION:Dash into the holiday season at the 2nd Annual Run Run Rudolph hosted by Hood County Christmas for Children! Fun holiday themed games and actvities before and after the race.
X-ALT-DESC;FMTTYPE=text/html:Dash into the holiday season at the 2nd Annual Run Run Rudolph hosted by Hood County Christmas for Children! Fun holiday themed games and actvities before and after the race.
LOCATION:Hewlett Park 479 E. Pearl St Granbury Texas
UID:e.2304.57374
SEQUENCE:3
DTSTAMP:20260419T153421Z
URL:https://business.granburychamber.com/events/details/run-run-rudolph-5k-1k-57374
END:VEVENT

END:VCALENDAR
