BEGIN:VCALENDAR
VERSION:2.0
PRODID:-//ChamberMaster//Event Calendar 2.0//EN
METHOD:PUBLISH
X-PUBLISHED-TTL:P3D
REFRESH-INTERVAL:P3D
CALSCALE:GREGORIAN
BEGIN:VEVENT
DTSTART:20241016T140000Z
DTEND:20241016T143000Z
X-MICROSOFT-CDO-ALLDAYEVENT:FALSE
SUMMARY:SMB Cyber Security Series by METROGEEK
DESCRIPTION:October is National Cyber Security Awareness Month\n\nProtect Your Business Today! \n\n \n\nSMB Cyber Security Series \n\n \n\nFREE 30-minute online sessions\n\nPresented by METROGEEK \n\n \n\nJoin us for a weekly cyber security workshop throughout the month of October!  \n\n \n\nAs a small business owner\, you're a prime target for cybercrime and\n\nOctober is National Cyber Security Awareness Month!\n\n \n\nThat's why METROGEEK is hosting a free\, 30-minute weekly session to help you protect your business.\n\n \n\n\nWhen: Wednesdays in October from 9-9:30am \n\n(Oct. 2nd\, 9th\, 16th\, & 23rd)\n\nWhere: Online via Zoom\n\nWho: Small business owners and their staff\n\nCost: FREE\n\nRegister online: https://bit.ly/3BELwky\n\n \n\nEach session will cover a different aspect of cyber security\, from \n\nidentifying risks to implementing effective protection strategies. Plus\, you'll have the chance to ask questions and learn about the IT and cyber security services offered by METROGEEK.\n\n \n\nPlus\, don't miss our special event on October 30th! \n\nMETROGEEK will be providing a 90-minute business development \n\nprogram from 9-10:30am at Aviva Granbury Senior Living. Enjoy door prizes\, a raffle for a $5\,000 METROGEEK service plan\, and exclusive perks for in-person attendees. Coffee and a light breakfast will be provided.
X-ALT-DESC;FMTTYPE=text/html:<p style="margin: 0px\; padding: 0px\; color: rgb(45\, 50\, 53)\; font-family: Corbel\, Geneva\, Verdana\, Arial\, sans-serif\; font-size: 18px\; white-space-collapse: preserve\; background-color: rgb(255\, 255\, 255)\; text-align: center\;"><span style="font-size: 30px\; color: rgb(233\, 76\, 58)\; font-weight: bold\; font-style: italic\; font-family: Arial\, Verdana\, Helvetica\, sans-serif\;">October is National Cyber Security Awareness Month</span></p>\n\n<p style="margin: 0px\; padding: 0px\; color: rgb(45\, 50\, 53)\; font-family: Corbel\, Geneva\, Verdana\, Arial\, sans-serif\; font-size: 18px\; white-space-collapse: preserve\; background-color: rgb(255\, 255\, 255)\; text-align: center\;"><span style="font-size: 26px\; color: rgb(40\, 79\, 161)\; font-weight: bold\; font-style: italic\; font-family: Arial\, Verdana\, Helvetica\, sans-serif\;">Protect Your Business Today! </span><br />\n&nbsp\;</p>\n\n<p style="margin: 0px\; padding: 0px\; color: rgb(45\, 50\, 53)\; font-family: Corbel\, Geneva\, Verdana\, Arial\, sans-serif\; font-size: 18px\; white-space-collapse: preserve\; background-color: rgb(255\, 255\, 255)\; text-align: center\;"><span style="font-size: 25px\; color: rgb(36\, 36\, 36)\; font-weight: bold\; font-family: &quot\;Segoe UI&quot\;\, &quot\;Lucida Grande&quot\;\, Tahoma\, sans-serif\;">SMB Cyber Security Series </span></p>\n\n<p style="margin: 0px\; padding: 0px\; color: rgb(45\, 50\, 53)\; font-family: Corbel\, Geneva\, Verdana\, Arial\, sans-serif\; font-size: 18px\; white-space-collapse: preserve\; background-color: rgb(255\, 255\, 255)\; text-align: center\;">&nbsp\;</p>\n\n<p style="margin: 0px\; padding: 0px\; color: rgb(45\, 50\, 53)\; font-family: Corbel\, Geneva\, Verdana\, Arial\, sans-serif\; font-size: 18px\; white-space-collapse: preserve\; background-color: rgb(255\, 255\, 255)\; text-align: center\;"><span style="font-size: 22px\; color: rgb(233\, 76\, 58)\; background-color: rgb(245\, 239\, 85)\; font-style: italic\; font-weight: bold\; font-family: &quot\;Segoe UI&quot\;\, &quot\;Lucida Grande&quot\;\, Tahoma\, sans-serif\;">FREE 30-minute online sessions</span></p>\n\n<p style="margin: 0px\; padding: 0px\; color: rgb(45\, 50\, 53)\; font-family: Corbel\, Geneva\, Verdana\, Arial\, sans-serif\; font-size: 18px\; white-space-collapse: preserve\; background-color: rgb(255\, 255\, 255)\; text-align: center\;"><span style="font-size: 17px\; color: rgb(36\, 36\, 36)\; font-weight: bold\; font-family: &quot\;Segoe UI&quot\;\, &quot\;Lucida Grande&quot\;\, Tahoma\, sans-serif\; font-style: italic\;">Presented by METROGEEK</span><span style="font-size: 17px\; color: rgb(36\, 36\, 36)\; font-weight: bold\; font-family: &quot\;Segoe UI&quot\;\, &quot\;Lucida Grande&quot\;\, Tahoma\, sans-serif\;"> </span></p>\n\n<p style="margin: 0px\; padding: 0px\; color: rgb(45\, 50\, 53)\; font-family: Corbel\, Geneva\, Verdana\, Arial\, sans-serif\; font-size: 18px\; white-space-collapse: preserve\; background-color: rgb(255\, 255\, 255)\; text-align: center\;">&nbsp\;</p>\n\n<p style="margin: 0px\; padding: 0px\; color: rgb(45\, 50\, 53)\; font-family: Corbel\, Geneva\, Verdana\, Arial\, sans-serif\; font-size: 18px\; white-space-collapse: preserve\; background-color: rgb(255\, 255\, 255)\; text-align: center\;"><span style="font-size: 20px\; color: rgb(40\, 79\, 161)\; font-style: italic\; font-weight: bold\; font-family: &quot\;Segoe UI&quot\;\, &quot\;Lucida Grande&quot\;\, Tahoma\, sans-serif\;">Join us for a weekly cyber security workshop throughout the month of October!&nbsp\;&nbsp\;</span></p>\n\n<p style="margin: 0px\; padding: 0px\; color: rgb(45\, 50\, 53)\; font-family: Corbel\, Geneva\, Verdana\, Arial\, sans-serif\; font-size: 18px\; white-space-collapse: preserve\; background-color: rgb(255\, 255\, 255)\; text-align: center\;">&nbsp\;</p>\n\n<p style="margin: 0px\; padding: 0px\; color: rgb(45\, 50\, 53)\; font-family: Corbel\, Geneva\, Verdana\, Arial\, sans-serif\; font-size: 18px\; white-space-collapse: preserve\; background-color: rgb(255\, 255\, 255)\; text-align: center\;"><span style="color: rgb(40\, 79\, 161)\; font-family: &quot\;Segoe UI&quot\;\, &quot\;Lucida Grande&quot\;\, Tahoma\, sans-serif\;">As a small business owner\, you&#39\;re a prime target for cybercrime and<br />\nOctober is National Cyber Security Awareness Month!</span></p>\n\n<p style="margin: 0px\; padding: 0px\; color: rgb(45\, 50\, 53)\; font-family: Corbel\, Geneva\, Verdana\, Arial\, sans-serif\; font-size: 18px\; white-space-collapse: preserve\; background-color: rgb(255\, 255\, 255)\; text-align: center\;">&nbsp\;</p>\n\n<p style="margin: 0px\; padding: 0px\; color: rgb(45\, 50\, 53)\; font-family: Corbel\, Geneva\, Verdana\, Arial\, sans-serif\; font-size: 18px\; white-space-collapse: preserve\; background-color: rgb(255\, 255\, 255)\; text-align: center\;"><span style="color: rgb(40\, 79\, 161)\; font-family: &quot\;Segoe UI&quot\;\, &quot\;Lucida Grande&quot\;\, Tahoma\, sans-serif\;">That&#39\;s why METROGEEK is hosting a free\, 30-minute weekly session to help you protect your business.</span><br />\n&nbsp\;</p>\n\n<div>\n<p style="margin: 0px\; padding: 0px\; color: rgb(45\, 50\, 53)\; font-family: Corbel\, Geneva\, Verdana\, Arial\, sans-serif\; font-size: 18px\; text-align: center\; white-space-collapse: preserve\; background-color: rgb(255\, 255\, 255)\;"><span style="font-weight: bold\; font-family: Arial\, Verdana\, Helvetica\, sans-serif\; font-size: 17px\; color: rgb(40\, 79\, 161)\;">When:</span><span style="font-family: Arial\, Verdana\, Helvetica\, sans-serif\; font-size: 17px\; color: rgb(40\, 79\, 161)\;">&nbsp\;Wednesdays in October from 9-9:30am </span></p>\n\n<p style="margin: 0px\; padding: 0px\; color: rgb(45\, 50\, 53)\; font-family: Corbel\, Geneva\, Verdana\, Arial\, sans-serif\; font-size: 18px\; text-align: center\; white-space-collapse: preserve\; background-color: rgb(255\, 255\, 255)\;"><span style="font-family: Arial\, Verdana\, Helvetica\, sans-serif\; font-size: 17px\; color: rgb(40\, 79\, 161)\;">(Oct. 2nd\, 9th\, 16th\, &amp\; 23rd)</span></p>\n\n<p style="margin: 0px\; padding: 0px\; color: rgb(45\, 50\, 53)\; font-family: Corbel\, Geneva\, Verdana\, Arial\, sans-serif\; font-size: 18px\; text-align: center\; white-space-collapse: preserve\; background-color: rgb(255\, 255\, 255)\;"><span style="font-weight: bold\; font-family: Arial\, Verdana\, Helvetica\, sans-serif\; font-size: 17px\; color: rgb(40\, 79\, 161)\;">Where:</span><span style="font-family: Arial\, Verdana\, Helvetica\, sans-serif\; font-size: 17px\; color: rgb(40\, 79\, 161)\;">&nbsp\;Online via Zoom</span></p>\n\n<p style="margin: 0px\; padding: 0px\; color: rgb(45\, 50\, 53)\; font-family: Corbel\, Geneva\, Verdana\, Arial\, sans-serif\; font-size: 18px\; text-align: center\; white-space-collapse: preserve\; background-color: rgb(255\, 255\, 255)\;"><span style="font-weight: bold\; font-family: Arial\, Verdana\, Helvetica\, sans-serif\; font-size: 17px\; color: rgb(40\, 79\, 161)\;">Who:</span><span style="font-family: Arial\, Verdana\, Helvetica\, sans-serif\; font-size: 17px\; color: rgb(40\, 79\, 161)\;">&nbsp\;Small business owners and their staff</span></p>\n\n<p style="margin: 0px\; padding: 0px\; color: rgb(45\, 50\, 53)\; font-family: Corbel\, Geneva\, Verdana\, Arial\, sans-serif\; font-size: 18px\; text-align: center\; white-space-collapse: preserve\; background-color: rgb(255\, 255\, 255)\;"><span style="font-family: Arial\, Verdana\, Helvetica\, sans-serif\; font-size: 17px\; color: rgb(40\, 79\, 161)\; font-weight: bold\;">Cost:</span><span style="font-family: Arial\, Verdana\, Helvetica\, sans-serif\; font-size: 17px\; color: rgb(40\, 79\, 161)\;"> FREE</span></p>\n\n<p style="margin: 0px\; padding: 0px\; text-align: center\;"><span style="font-size:14px\;"><span style="font-weight: bold\; color: rgb(233\, 76\, 58)\;">Register online:&nbsp\;</span><a data-link-type="web" href="https://bit.ly/3BELwky" rel="noopener noreferrer" style="color: rgb(233\, 76\, 58)\; font-weight: bold\;" target="_blank">https://bit.ly/3BELwky</a></span></p>\n\n<p style="margin: 0px\; padding: 0px\; text-align: center\;">&nbsp\;</p>\n\n<p style="margin: 0px\; padding: 0px\; color: rgb(45\, 50\, 53)\; font-family: Corbel\, Geneva\, Verdana\, Arial\, sans-serif\; font-size: 18px\; text-align: center\; white-space-collapse: preserve\; background-color: rgb(255\, 255\, 255)\;"><span style="font-size: 15px\; color: rgb(40\, 79\, 161)\; font-family: Arial\, Verdana\, Helvetica\, sans-serif\;">Each session will cover a different aspect of cyber security\, from </span></p>\n\n<p style="margin: 0px\; padding: 0px\; color: rgb(45\, 50\, 53)\; font-family: Corbel\, Geneva\, Verdana\, Arial\, sans-serif\; font-size: 18px\; text-align: center\; white-space-collapse: preserve\; background-color: rgb(255\, 255\, 255)\;"><span style="font-size: 15px\; color: rgb(40\, 79\, 161)\; font-family: Arial\, Verdana\, Helvetica\, sans-serif\;">identifying risks to implementing effective protection strategies. Plus\, you&#39\;ll have the chance to ask questions and learn about the IT and cyber security services offered by METROGEEK.</span></p>\n\n<p style="margin: 0px\; padding: 0px\; color: rgb(45\, 50\, 53)\; font-family: Corbel\, Geneva\, Verdana\, Arial\, sans-serif\; font-size: 18px\; text-align: center\; white-space-collapse: preserve\; background-color: rgb(255\, 255\, 255)\;">&nbsp\;</p>\n\n<p style="margin: 0px\; padding: 0px\; color: rgb(45\, 50\, 53)\; font-family: Corbel\, Geneva\, Verdana\, Arial\, sans-serif\; font-size: 18px\; text-align: center\; white-space-collapse: preserve\; background-color: rgb(255\, 255\, 255)\;"><span style="font-size: 15px\; color: rgb(40\, 79\, 161)\; font-family: Arial\, Verdana\, Helvetica\, sans-serif\; font-style: italic\; font-weight: bold\;">Plus\, don&#39\;t miss our special event on October 30th! </span></p>\n\n<p style="margin: 0px\; padding: 0px\; color: rgb(45\, 50\, 53)\; font-family: Corbel\, Geneva\, Verdana\, Arial\, sans-serif\; font-size: 18px\; text-align: center\; white-space-collapse: preserve\; background-color: rgb(255\, 255\, 255)\;"><span style="font-size: 15px\; color: rgb(40\, 79\, 161)\; font-family: Arial\, Verdana\, Helvetica\, sans-serif\;">METROGEEK will be providing a 90-minute business development </span></p>\n\n<p style="margin: 0px\; padding: 0px\; color: rgb(45\, 50\, 53)\; font-family: Corbel\, Geneva\, Verdana\, Arial\, sans-serif\; font-size: 18px\; text-align: center\; white-space-collapse: preserve\; background-color: rgb(255\, 255\, 255)\;"><span style="font-size: 15px\; color: rgb(40\, 79\, 161)\; font-family: Arial\, Verdana\, Helvetica\, sans-serif\;">program from 9-10:30am at Aviva Granbury Senior Living. Enjoy door prizes\, a raffle for a $5\,000 METROGEEK service plan\, and exclusive perks for in-person attendees.&nbsp\;Coffee and a light breakfast will be provided.</span></p>\n\n<p style="margin: 0px\; padding: 0px\; color: rgb(45\, 50\, 53)\; font-family: Corbel\, Geneva\, Verdana\, Arial\, sans-serif\; font-size: 18px\; text-align: center\; white-space-collapse: preserve\; background-color: rgb(255\, 255\, 255)\;">&nbsp\;</p>\n\n<p style="margin: 0px\; padding: 0px\; color: rgb(45\, 50\, 53)\; font-family: Corbel\, Geneva\, Verdana\, Arial\, sans-serif\; font-size: 18px\; text-align: center\; white-space-collapse: preserve\; background-color: rgb(255\, 255\, 255)\;">&nbsp\;</p>\n\n<p style="margin: 0px\; padding: 0px\; color: rgb(45\, 50\, 53)\; font-family: Corbel\, Geneva\, Verdana\, Arial\, sans-serif\; font-size: 18px\; text-align: center\; white-space-collapse: preserve\; background-color: rgb(255\, 255\, 255)\;">&nbsp\;</p>\n</div>\n
LOCATION:Online via Zoom Register online: https://bit.ly/3BELwky
UID:e.2304.56309
SEQUENCE:3
DTSTAMP:20260421T164238Z
URL:https://business.granburychamber.com/events/details/smb-cyber-security-series-by-metrogeek-56309
END:VEVENT

END:VCALENDAR
