BEGIN:VCALENDAR
VERSION:2.0
PRODID:-//ChamberMaster//Event Calendar 2.0//EN
METHOD:PUBLISH
X-PUBLISHED-TTL:P3D
REFRESH-INTERVAL:P3D
CALSCALE:GREGORIAN
BEGIN:VEVENT
DTSTART:20251115T190000Z
DTEND:20251116T030000Z
X-MICROSOFT-CDO-ALLDAYEVENT:FALSE
SUMMARY:Teacher Appreciation Day at TX HOP
DESCRIPTION:Come join us for hours of pickleball at TX HOP for Teacher Appreciation Day! $20 gets teachers up to eight hours of play\, a chance to win prizes\, free food and drinks\, and lots of fun!
X-ALT-DESC;FMTTYPE=text/html:Come join us for hours of pickleball at TX HOP for Teacher Appreciation Day! $20 gets teachers up to eight hours of play\, a chance to win prizes\, free food and drinks\, and lots of fun!&nbsp\;
LOCATION:920 Tucker Way Granbury\, TX 76048
UID:e.2304.57631
SEQUENCE:3
DTSTAMP:20260419T154423Z
URL:https://business.granburychamber.com/events/details/teacher-appreciation-day-at-tx-hop-57631
END:VEVENT

END:VCALENDAR
