BEGIN:VCALENDAR
VERSION:2.0
PRODID:-//ChamberMaster//Event Calendar 2.0//EN
METHOD:PUBLISH
X-PUBLISHED-TTL:P3D
REFRESH-INTERVAL:P3D
CALSCALE:GREGORIAN
BEGIN:VEVENT
DTSTART:20251102T220000Z
DTEND:20251103T020000Z
X-MICROSOFT-CDO-ALLDAYEVENT:FALSE
SUMMARY:Two Steppin' Forward: Buckles & Bling
DESCRIPTION:???????? ?????? ????????!??\n\n\n\n?????? ??????????????' ??????????????: ?????????????? & ?????????????\n\n\n\nSunday\, November 2nd \n\nTime: 4PM   8PM \n\n\n\nDust off your rhinestones and shine up those belt buckles Forward Training Center's signature fall event is back and better than ever!\n\n\n\nJoin us for an evening full of high-energy fun and heartfelt purpose\, featuring:\n\n?? Toe-tappin' live music by Prophets & Outlaws\n\n?? Delicious eats by Vito's Italian Kitchen \n\n?? Refreshing drinks at the cash bar\n\n?? Raffles & silent auctions\n\n?? Line dancing under the lights\n\n?? Friendly roping contests\n\n and surprises still to come!\n\n\n\n???????????? ??????????????: \n\nIndividual ticket   $75\n\nConcert ticket only   $20 (doors open at 6PM concert starts at 6:30PM) \n\n\n\n?????????????????????? ??????????????????????????:\n\n  Grand Champion: $2\,000 (includes VIP table for 8 & VIP social media recognition)\n\n  Rhinestone Cowboy: $1500 (includes table of 8 & social media recognition)\n\n  Blazing Saddle: $750 (includes 4 tickets & social media recognition)\n\n  Raffle Sponsor: $500 (includes social media recognition)\n\n  Grand Ole Opry (music) Premier Stage Sponsor: $5\,000 ( includes VIP table of 8\, VIP social media recognition\, and logo banner on stage) \n\n\n\nIt's a night to celebrate\, connect\, and rally around the mission of Forward Training Center.
X-ALT-DESC;FMTTYPE=text/html:<span style="font-family:ubuntu\,sans-serif\; font-size:18px">???????? ?????? ????????!??</span><br />\n<br />\n<span style="font-family:ubuntu\,sans-serif\; font-size:18px">?????? ??????????????&rsquo\; ??????????????: ?????????????? &amp\; ?????????????</span><br />\n<br />\n<span style="font-family:ubuntu\,sans-serif\; font-size:18px">Sunday\, November 2nd&nbsp\;</span><br />\n<span style="font-family:ubuntu\,sans-serif\; font-size:18px">Time: 4PM &mdash\; 8PM&nbsp\;</span><br />\n<br />\n<span style="font-family:ubuntu\,sans-serif\; font-size:18px">Dust off your rhinestones and shine up those belt buckles&mdash\;Forward Training Center&rsquo\;s signature fall event is back and better than ever!</span><br />\n<br />\n<span style="font-family:ubuntu\,sans-serif\; font-size:18px">Join us for an evening full of high-energy fun and heartfelt purpose\, featuring:</span><br />\n<span style="font-family:ubuntu\,sans-serif\; font-size:18px">?? Toe-tappin&rsquo\; live music by Prophets &amp\; Outlaws</span><br />\n<span style="font-family:ubuntu\,sans-serif\; font-size:18px">?? Delicious eats by Vito&rsquo\;s Italian Kitchen&nbsp\;</span><br />\n<span style="font-family:ubuntu\,sans-serif\; font-size:18px">?? Refreshing drinks at the cash bar</span><br />\n<span style="font-family:ubuntu\,sans-serif\; font-size:18px">?? Raffles &amp\; silent auctions</span><br />\n<span style="font-family:ubuntu\,sans-serif\; font-size:18px">?? Line dancing under the lights</span><br />\n<span style="font-family:ubuntu\,sans-serif\; font-size:18px">?? Friendly roping contests</span><br />\n<span style="font-family:ubuntu\,sans-serif\; font-size:18px">&hellip\;and surprises still to come!</span><br />\n<br />\n<span style="font-family:ubuntu\,sans-serif\; font-size:18px">???????????? ??????????????:&nbsp\;</span><br />\n<span style="font-family:ubuntu\,sans-serif\; font-size:18px">Individual ticket &mdash\; $75</span><br />\n<span style="font-family:ubuntu\,sans-serif\; font-size:18px">Concert ticket only &mdash\; $20 (doors open at 6PM concert starts at 6:30PM)&nbsp\;</span><br />\n<br />\n<span style="font-family:ubuntu\,sans-serif\; font-size:18px">?????????????????????? ??????????????????????????:</span><br />\n<span style="font-family:ubuntu\,sans-serif\; font-size:18px">&bull\; Grand Champion: $2\,000 (includes VIP table for 8 &amp\; VIP social media recognition)</span><br />\n<span style="font-family:ubuntu\,sans-serif\; font-size:18px">&bull\; Rhinestone Cowboy: $1500 (includes table of 8 &amp\; social media recognition)</span><br />\n<span style="font-family:ubuntu\,sans-serif\; font-size:18px">&bull\; Blazing Saddle: $750 (includes 4 tickets &amp\; social media recognition)</span><br />\n<span style="font-family:ubuntu\,sans-serif\; font-size:18px">&bull\; Raffle Sponsor: $500 (includes social media recognition)</span><br />\n<span style="font-family:ubuntu\,sans-serif\; font-size:18px">&bull\; Grand Ole Opry (music) Premier Stage Sponsor: $5\,000 ( includes VIP table of 8\, VIP social media recognition\, and logo banner on stage)&nbsp\;</span><br />\n<br />\n<span style="font-family:ubuntu\,sans-serif\; font-size:18px">It&rsquo\;s a night to celebrate\, connect\, and rally around the mission of Forward Training Center.</span>
LOCATION:Warren's Backyard: 2901 Weatherford Hwy. Granbury\, TX 76049
UID:e.2304.57037
SEQUENCE:3
DTSTAMP:20260419T164025Z
URL:https://business.granburychamber.com/events/details/two-steppin-forward-buckles-bling-57037
END:VEVENT

END:VCALENDAR
