BEGIN:VCALENDAR
VERSION:2.0
PRODID:-//ChamberMaster//Event Calendar 2.0//EN
METHOD:PUBLISH
X-PUBLISHED-TTL:P3D
REFRESH-INTERVAL:P3D
CALSCALE:GREGORIAN
BEGIN:VEVENT
DTSTART;VALUE=DATE:20251111
DTEND;VALUE=DATE:20251112
TRANSP:TRANSPARENT
X-MICROSOFT-CDO-ALLDAYEVENT:TRUE
SUMMARY:Veteran’s Day at TX HOP
DESCRIPTION:Come join us for free pickleball play for all veterans! Bring a friend and they play for $15! Thank you for your service! Let's celebrate you!
X-ALT-DESC;FMTTYPE=text/html:Come join us for free pickleball play for all veterans! Bring a friend and they play for $15! Thank you for your service! Let&rsquo\;s celebrate you!
LOCATION:
UID:e.2304.57632
SEQUENCE:3
DTSTAMP:20260419T164301Z
URL:https://business.granburychamber.com/events/details/veteran-s-day-at-tx-hop-57632
END:VEVENT

END:VCALENDAR
