BEGIN:VCALENDAR
VERSION:2.0
PRODID:-//ChamberMaster//Event Calendar 2.0//EN
METHOD:PUBLISH
X-PUBLISHED-TTL:P3D
REFRESH-INTERVAL:P3D
CALSCALE:GREGORIAN
BEGIN:VEVENT
DTSTART:20221112T031500Z
DTEND:20221112T043000Z
X-MICROSOFT-CDO-ALLDAYEVENT:FALSE
SUMMARY:Veterans Day: A Morning of Honoring
DESCRIPTION:Friends of Memorial Lane partner with GISD to present\n\nA Morning of Honoring: Remembering Past\, Present\, & Future Servants\n\n\n\n9:15 - 10:30AM | GISD High School Auditorium\n\nAward Winning Choir\n\nSpecial Speaker - Lt. Colonel (Ret.) Jim Marshall\n\nSpecial Seating for Veterans and MCJROTC Cadets\n\nEssay Winner & Gift Presentation: MOAA\n\nFlag and Wreath Ceremonies\n\n\n\n11:00 - 11:30AM | Military Site Memorial Lane \n\n(Jim Burks Firefighters Memorial Park)\n\nPrayer Box\n\nFlag Ceremony\n\nPastor Bill Sanders & Nin Hulett\n\n\n\nSpecial Gifts for ALL veterans who attend!
X-ALT-DESC;FMTTYPE=text/html:<em>Friends of Memorial Lane partner with GISD to present</em><br />\n<strong>A Morning of Honoring: Remembering Past\, Present\, &amp\; Future Servants</strong><br />\n<br />\n<u>9:15 - 10:30AM | GISD High School Auditorium</u><br />\nAward Winning Choir<br />\nSpecial Speaker - Lt. Colonel (Ret.) Jim Marshall<br />\nSpecial Seating for Veterans and MCJROTC Cadets<br />\nEssay Winner &amp\; Gift Presentation: MOAA<br />\nFlag and Wreath Ceremonies<br />\n<br />\n<u>11:00 - 11:30AM | Military Site Memorial Lane&nbsp\;<br />\n(Jim Burks Firefighters Memorial Park)</u><br />\nPrayer Box<br />\nFlag Ceremony<br />\nPastor Bill Sanders &amp\; Nin Hulett<br />\n<br />\n<em><strong>Special Gifts</strong></em> <em>for ALL veterans who attend!</em>
LOCATION:9:15 - 10:30AM | GISD High School Auditorium 11:00 - 11:30AM | Military Site Memorial Lane (Jim Burks Firefighters Memorial Park)
UID:e.2304.53741
SEQUENCE:3
DTSTAMP:20260421T190213Z
URL:https://business.granburychamber.com/events/details/veterans-day-a-morning-of-honoring-53741
END:VEVENT

END:VCALENDAR
