BEGIN:VCALENDAR
VERSION:2.0
PRODID:-//ChamberMaster//Event Calendar 2.0//EN
METHOD:PUBLISH
X-PUBLISHED-TTL:P3D
REFRESH-INTERVAL:P3D
CALSCALE:GREGORIAN
BEGIN:VEVENT
DTSTART:20220524T163000Z
DTEND:20220524T180000Z
X-MICROSOFT-CDO-ALLDAYEVENT:FALSE
SUMMARY:WOMEN IN BUSINESS LUNCHEON
DESCRIPTION:The Women in Business Committee is excited to have Dave Cowley join us as the speaker for this May Luncheon event. \n\n\n\nDave Cowley (64) is a 35-year radio veteran with stints at WBAP-Dallas/Fort Worth\, KLUR-Wichita Falls\, KJNE -Waco\, 95.9 KYXS (The Ranch) in Mineral Wells (General Sales Manager)\, (Program Director/Mornings) and 102.5/88.5 CHUCKFM (Program Director/Mornings) in Weatherford\, where he is celebrating his 20th year as host of the morning show. From 1993 to 1998\, Dave hosted/wrote/produced a 4-hour nationally syndicated oldies radio show called "Class Reunion" to over 130 radio stations coast to coast. In 1995\, Dave enlisted the talents of Garth Brooks\, Shania Twain\, Gary Allen and many others to take his two-hour Country syndicated show\, "The Red Rive Caf " to radio stations across the Lone Star State. Dave has personally interviewed over 100 of the greatest artists in early rock\, pop\, rhythm and blues and country music. Dave is a "walking encyclopedia" of the history of rock & roll\, as well as early country music.\n\n\n\nTo say that Dave is active in his community is an understatement. Dave is a proud member of Lions Club International. In 2014\, Dave was awarded the prestigious Lions International Grass Roots Award for his humanitarian service to the community. April 9th\, 2014 was proclaimed "Dave Cowley Day"\, by the Mayor of Weatherford. on October 21st of 2021\, Dave was honored with another City of Weatherford proclamation\, "CHUCK FM Morning Show Day" in honor of his 20 years hosting the radio show.\n\nDave was also honored with an honorary Deputy Sheriff's designation with the Parker County Sheriff's Department in 2021. He has served on the Weatherford Chamber of Commerce Board of Directors\, Parker County Peach Festival Steering committee\, as well as the Chamber's Ambassadors program. \n\nThe children of Weatherford and Parker County are especially close to his heart\, as he is a former trustee on the WISD School Board where he served three unopposed terms (9 years). Dave and his fellow board members were honored in 2009 with the "Texas School Board of the Year" award from the Texas Association of School Boards. He is a founding member of the Board of Directors for the WISD Education Foundation\, serving the Board as President from 2018-2020. He has served as a member of the Texas Scholars Program. Dave served as President of Partners in Education and is a former member of the WISD Facilities committee. \n\n\n\nDave has served on the advisory board for the Parker County Continuing Education program and advisory board for the United Way. Dave is very active in the local theater. Dave has carried out lead roles in local productions of "1776"\, Oklahoma!"\, "Guys and Dolls"\, "Annie Get Your Gun and "Anything Goes" as well as starred in productions of "On Golden Pond"\, "You Can't Take It With You" and "Communicating Doors". \n\n \n\nDave's hobbies are movies\, fishing and concerts. Dave enjoys spending time with grandkids\, Lane (15) and Tynzlee (11). \n\n \nRegister online using the blue button above.\n\n\n\nCHAMBER RESERVATION AND REFUND POLICY: No refunds are offered for Chamber sponsorships\, services\, products\, or events other than food service events as stated below.\n\n \n\nDue to catering guarantees\, breakfast\, luncheon\, or dinner reservations not canceled 48 hours before the event will be billed.
X-ALT-DESC;FMTTYPE=text/html:<p style="font-size: 16px\; min-height: 1.5em\; margin: 0px\; caret-color: rgb(39\, 37\, 33)\; color: rgb(39\, 37\, 33)\; font-family: avenir-lt-w01_35-light1475496\, sans-serif\;">The Women in Business Committee is excited to have Dave Cowley join us as the speaker for this May Luncheon event.&nbsp\;<br />\n<br />\n<span style="color:black\;"><span style="font-family:arial\,sans-serif\;">Dave Cowley (64) is a 35-year radio veteran with stints at WBAP-Dallas/Fort Worth\, KLUR-Wichita Falls\, KJNE -Waco\, 95.9 KYXS (The Ranch) in Mineral Wells (General Sales Manager)\, (Program Director/Mornings) and 102.5/88.5 CHUCKFM (Program Director/Mornings) in Weatherford\, where he is celebrating his 20th year as host of the morning show. From 1993 to 1998\, Dave hosted/wrote/produced a 4-hour nationally syndicated oldies radio show called &ldquo\;<strong><em>Class Reunion</em></strong>&rdquo\; to over 130 radio stations coast to coast. In 1995\, Dave enlisted the talents of Garth Brooks\, Shania Twain\, Gary Allen and many others to take his two-hour Country syndicated show\, &ldquo\;<strong><em>The Red Rive Caf&eacute\;&rdquo\;</em></strong> to radio stations across the Lone Star State. Dave has personally interviewed over 100 of the greatest artists in early rock\, pop\, rhythm and blues and country music. Dave is a &ldquo\;walking encyclopedia&rdquo\; of the history of rock &amp\; roll\, as well as early country music.</span></span><br />\n<br />\n<span style="color:black\;"><span style="font-family:arial\,sans-serif\;">To say that Dave is active in his community is an understatement. Dave is a proud member of Lions Club International. In 2014\, Dave was awarded the prestigious <strong><em><u>Lions International Grass Roots Award</u></em></strong> for his humanitarian service to the community. April 9<sup>th</sup>\, 2014 was proclaimed &ldquo\;<strong>Dave Cowley Day</strong>&rdquo\;\, by the Mayor of Weatherford. on October 21<sup>st</sup> of 2021\, Dave was honored with another City of Weatherford proclamation\, <strong>&ldquo\;CHUCK FM Morning Show Day&rdquo\;</strong> in honor of his 20 years hosting the radio show.</span></span><br />\n<span style="color:black\;"><span style="font-family:arial\,sans-serif\;">Dave was also honored with an honorary Deputy Sheriff&rsquo\;s designation with the Parker County Sheriff&rsquo\;s Department in 2021. He has served on the Weatherford Chamber of Commerce Board of Directors\, Parker County Peach Festival Steering committee\, as well as the Chamber&#39\;s Ambassadors program.&nbsp\;</span></span><br />\n<span style="color:black\;"><span style="font-family:arial\,sans-serif\;">The children of Weatherford and Parker County are especially close to his heart\, as he is a former trustee on the WISD School Board where he served three unopposed terms (9 years). Dave and his fellow board members were honored in 2009 with the &ldquo\;<strong>Texas School Board of the Year</strong>&rdquo\; award from the Texas Association of School Boards. He is a founding member of the Board of Directors for the WISD Education Foundation\, serving the Board as President from 2018-2020. He has served as a member of the Texas Scholars Program. Dave served as President of Partners in Education and is a former member of the WISD Facilities committee.&nbsp\;</span></span><br />\n<br />\n<span style="color:black\;"><span style="font-family:arial\,sans-serif\;">Dave has served on the advisory board for the Parker County </span></span><a href="http://www.ntxgraphics.com/classicpr/who.htm" title="Click to Continue &gt\; by Vid-Saver"><span style="text-decoration:none\;text-underline:none\;"><span style="font-family:arial\,sans-serif\;">Continuing Education</span></span></a><span style="color:black\;"><span style="font-family:arial\,sans-serif\;"> program and advisory board for the United Way. Dave is very active in the local theater. Dave has carried out lead roles in local productions of &ldquo\;1776&rdquo\;\, Oklahoma!&rdquo\;\, &ldquo\;Guys and Dolls&rdquo\;\, &quot\;Annie Get Your Gun and &ldquo\;Anything Goes&rdquo\; as well as starred in productions of &ldquo\;On Golden Pond&rdquo\;\, &ldquo\;You Can&#39\;t Take It With You&rdquo\; and &quot\;Communicating Doors&quot\;. </span></span><br />\n&nbsp\;<br />\n<span style="color:black\;"><span style="font-family:arial\,sans-serif\;">Dave&#39\;s hobbies are movies\, fishing and concerts. Dave enjoys spending time with grandkids\, Lane (15) and Tynzlee (11).</span></span>&nbsp\;<br />\n&nbsp\;</p>\n<span style="font-size:14px\;"><span font-size:="" style="box-sizing: content-box\; font-weight: bolder\; bottom: auto\; clear: none\; color: rgb(51\, 51\, 51)\; content: normal\; direction: inherit\; display: inline\; empty-cells: show\; float: none\; font-variant-numeric: inherit\; font-variant-east-asian: inherit\; font-stretch: inherit\; font-family: Verdana\, Helvetica\, Arial\, sans-serif\; left: auto\; line-height: inherit\; margin: 0px\; max-height: none\; max-width: none\; opacity: 1\; outline-offset: 0px\; overflow: visible\; padding: 0px\; position: static\; resize: none\; right: auto\; table-layout: auto\; text-overflow: clip\; top: auto\; vertical-align: baseline\; visibility: inherit\; word-break: inherit\; overflow-wrap: inherit\; z-index: auto\; background-image: none\; background-color: rgb(255\, 255\, 255)\; border: none\; border-collapse: separate\; border-top-left-radius: 0px\; border-top-right-radius: 0px\; border-bottom-right-radius: 0px\; border-bottom-left-radius: 0px\; height: auto\; width: auto\; box-shadow: none\; background-position: initial initial\; background-repeat: initial initial\;" trebuchet=""><span style="box-sizing: content-box\; bottom: auto\; clear: none\; color: firebrick\; content: normal\; direction: inherit\; empty-cells: show\; font-family: inherit\; font-style: inherit\; font-variant-caps: inherit\; font-weight: inherit\; font-stretch: inherit\; line-height: inherit\; left: auto\; letter-spacing: inherit\; margin: 0px\; max-height: none\; max-width: none\; opacity: 1\; outline-offset: 0px\; overflow: visible\; padding: 0px\; position: static\; resize: none\; right: auto\; table-layout: auto\; text-align: inherit\; text-indent: inherit\; text-overflow: clip\; text-transform: inherit\; top: auto\; vertical-align: baseline\; visibility: inherit\; white-space: inherit\; word-break: inherit\; word-spacing: inherit\; overflow-wrap: inherit\; z-index: auto\; background-image: none\; border: none\; border-collapse: separate\; border-top-left-radius: 0px\; border-top-right-radius: 0px\; border-bottom-right-radius: 0px\; border-bottom-left-radius: 0px\; height: auto\; width: auto\; box-shadow: none\; background-position: initial initial\; background-repeat: initial initial\;"><span style="box-sizing: content-box\; bottom: auto\; clear: none\; color: inherit\; content: normal\; direction: inherit\; empty-cells: show\; font-style: inherit\; font-variant-ligatures: inherit\; font-variant-position: inherit\; font-variant-caps: inherit\; font-variant-numeric: inherit\; font-variant-alternates: inherit\; font-variant-east-asian: inherit\; font-weight: inherit\; font-stretch: inherit\; font-family: verdana\, sans-serif\; left: auto\; letter-spacing: inherit\; line-height: inherit\; margin: 0px\; max-height: none\; max-width: none\; opacity: 1\; outline-offset: 0px\; overflow: visible\; padding: 0px\; position: static\; resize: none\; right: auto\; table-layout: auto\; text-align: inherit\; text-indent: inherit\; text-overflow: clip\; text-transform: inherit\; top: auto\; vertical-align: baseline\; visibility: inherit\; white-space: inherit\; word-break: inherit\; word-spacing: inherit\; overflow-wrap: inherit\; z-index: auto\; background-image: none\; border: none\; border-collapse: separate\; border-top-left-radius: 0px\; border-top-right-radius: 0px\; border-bottom-right-radius: 0px\; border-bottom-left-radius: 0px\; height: auto\; width: auto\; box-shadow: none\; background-position: initial initial\; background-repeat: initial initial\;"><span style="box-sizing: content-box\; bottom: auto\; clear: none\; color: inherit\; content: normal\; direction: inherit\; empty-cells: show\; font-style: inherit\; font-variant-ligatures: inherit\; font-variant-position: inherit\; font-variant-caps: inherit\; font-variant-numeric: inherit\; font-variant-alternates: inherit\; font-variant-east-asian: inherit\; font-weight: inherit\; font-stretch: inherit\; font-family: inherit\; left: auto\; letter-spacing: inherit\; line-height: inherit\; margin: 0px\; max-height: none\; max-width: none\; opacity: 1\; outline-offset: 0px\; overflow: visible\; padding: 0px\; position: static\; resize: none\; right: auto\; table-layout: auto\; text-align: inherit\; text-indent: inherit\; text-overflow: clip\; text-transform: inherit\; top: auto\; vertical-align: baseline\; visibility: inherit\; white-space: inherit\; word-break: inherit\; word-spacing: inherit\; overflow-wrap: inherit\; z-index: auto\; background-image: none\; border: none\; border-collapse: separate\; border-top-left-radius: 0px\; border-top-right-radius: 0px\; border-bottom-right-radius: 0px\; border-bottom-left-radius: 0px\; height: auto\; width: auto\; box-shadow: none\; background-position: initial initial\; background-repeat: initial initial\;">Register online using the blue button above.</span></span></span></span><br />\n<br />\n<span style="background-image:initial\;background-position:initial\;background-size:initial\;background-repeat:initial\;background-attachment:initial\;background-origin:initial\;background-clip:initial\;"><span style="font-family:verdana\,sans-serif\;">CHAMBER RESERVATION AND REFUND POLICY: No refunds are offered for Chamber sponsorships\, services\, products\, or events other than food service events as stated below.<br />\n&nbsp\;</span></span><br />\n<span style="font-family:verdana\,sans-serif\;"><span style="background-image:initial\;background-position:initial\;background-size:initial\;background-repeat:initial\;background-attachment:initial\;background-origin:initial\;background-clip:initial\;">Due to catering guarantees\, breakfast\, luncheon\, or dinner reservations not&nbsp\;canceled&nbsp\;48 hours before the event will be billed.</span></span></span><br />\n&nbsp\;
LOCATION:La Bella Luna
UID:e.2304.52725
SEQUENCE:3
DTSTAMP:20260424T231650Z
URL:https://business.granburychamber.com/events/details/women-in-business-luncheon-52725
END:VEVENT

END:VCALENDAR
